BEGIN:VCALENDAR
VERSION:2.0
PRODID:-//Abilities Unlimited of the Carolinas - ECPv6.15.17.1//NONSGML v1.0//EN
CALSCALE:GREGORIAN
METHOD:PUBLISH
X-ORIGINAL-URL:http://aucarolinas.org
X-WR-CALDESC:Events for Abilities Unlimited of the Carolinas
REFRESH-INTERVAL;VALUE=DURATION:PT1H
X-Robots-Tag:noindex
X-PUBLISHED-TTL:PT1H
BEGIN:VTIMEZONE
TZID:America/New_York
BEGIN:DAYLIGHT
TZOFFSETFROM:-0500
TZOFFSETTO:-0400
TZNAME:EDT
DTSTART:20250309T070000
END:DAYLIGHT
BEGIN:STANDARD
TZOFFSETFROM:-0400
TZOFFSETTO:-0500
TZNAME:EST
DTSTART:20251102T060000
END:STANDARD
BEGIN:DAYLIGHT
TZOFFSETFROM:-0500
TZOFFSETTO:-0400
TZNAME:EDT
DTSTART:20260308T070000
END:DAYLIGHT
BEGIN:STANDARD
TZOFFSETFROM:-0400
TZOFFSETTO:-0500
TZNAME:EST
DTSTART:20261101T060000
END:STANDARD
BEGIN:DAYLIGHT
TZOFFSETFROM:-0500
TZOFFSETTO:-0400
TZNAME:EDT
DTSTART:20270314T070000
END:DAYLIGHT
BEGIN:STANDARD
TZOFFSETFROM:-0400
TZOFFSETTO:-0500
TZNAME:EST
DTSTART:20271107T060000
END:STANDARD
END:VTIMEZONE
BEGIN:VEVENT
DTSTART;TZID=America/New_York:20260810T160000
DTEND;TZID=America/New_York:20260810T210000
DTSTAMP:20260422T180237
CREATED:20260319T020452Z
LAST-MODIFIED:20260319T025932Z
UID:272-1786377600-1786395600@aucarolinas.org
SUMMARY:PRACTICE - Juniors and Adults
DESCRIPTION:
URL:http://aucarolinas.org/event/practice-juniors-and-adults/
LOCATION:Providence Presbyterian Church\, 10151 Providence Church Lane\, Charlotte\, NC\, 28277\, United States
END:VEVENT
BEGIN:VEVENT
DTSTART;TZID=America/New_York:20260812T180000
DTEND;TZID=America/New_York:20260812T210000
DTSTAMP:20260422T180237
CREATED:20260319T020445Z
LAST-MODIFIED:20260319T025957Z
UID:265-1786557600-1786568400@aucarolinas.org
SUMMARY:PRACTICE - DIII Team
DESCRIPTION:
URL:http://aucarolinas.org/event/practice-diii-team/
LOCATION:Providence Presbyterian Church\, 10151 Providence Church Lane\, Charlotte\, NC\, 28277\, United States
END:VEVENT
BEGIN:VEVENT
DTSTART;VALUE=DATE:20261107
DTEND;VALUE=DATE:20261110
DTSTAMP:20260422T180237
CREATED:20260319T020555Z
LAST-MODIFIED:20260319T030122Z
UID:283-1794009600-1794268799@aucarolinas.org
SUMMARY:Queen City Classic
DESCRIPTION:
URL:http://aucarolinas.org/event/queen-city-classic/
LOCATION:Rock Hill Sports and Events Center\, 326 Technology Center Way\, Rock Hill\, SC\, 29730\, United States
END:VEVENT
END:VCALENDAR