BEGIN:VCALENDAR
VERSION:2.0
PRODID:-//Abilities Unlimited of the Carolinas - ECPv6.15.17.1//NONSGML v1.0//EN
CALSCALE:GREGORIAN
METHOD:PUBLISH
X-WR-CALNAME:Abilities Unlimited of the Carolinas
X-ORIGINAL-URL:http://aucarolinas.org
X-WR-CALDESC:Events for Abilities Unlimited of the Carolinas
REFRESH-INTERVAL;VALUE=DURATION:PT1H
X-Robots-Tag:noindex
X-PUBLISHED-TTL:PT1H
BEGIN:VTIMEZONE
TZID:America/New_York
BEGIN:DAYLIGHT
TZOFFSETFROM:-0500
TZOFFSETTO:-0400
TZNAME:EDT
DTSTART:20250309T070000
END:DAYLIGHT
BEGIN:STANDARD
TZOFFSETFROM:-0400
TZOFFSETTO:-0500
TZNAME:EST
DTSTART:20251102T060000
END:STANDARD
BEGIN:DAYLIGHT
TZOFFSETFROM:-0500
TZOFFSETTO:-0400
TZNAME:EDT
DTSTART:20260308T070000
END:DAYLIGHT
BEGIN:STANDARD
TZOFFSETFROM:-0400
TZOFFSETTO:-0500
TZNAME:EST
DTSTART:20261101T060000
END:STANDARD
BEGIN:DAYLIGHT
TZOFFSETFROM:-0500
TZOFFSETTO:-0400
TZNAME:EDT
DTSTART:20270314T070000
END:DAYLIGHT
BEGIN:STANDARD
TZOFFSETFROM:-0400
TZOFFSETTO:-0500
TZNAME:EST
DTSTART:20271107T060000
END:STANDARD
END:VTIMEZONE
BEGIN:VEVENT
DTSTART;VALUE=DATE:20260705
DTEND;VALUE=DATE:20260710
DTSTAMP:20260422T181929
CREATED:20260319T024558Z
LAST-MODIFIED:20260319T025031Z
UID:298-1783209600-1783641599@aucarolinas.org
SUMMARY:Summer Camp - Mizzou (University of Missouri)
DESCRIPTION:
URL:http://aucarolinas.org/event/summer-camp-mizzou-university/
END:VEVENT
BEGIN:VEVENT
DTSTART;TZID=America/New_York:20260628T000000
DTEND;TZID=America/New_York:20260703T000000
DTSTAMP:20260422T181929
CREATED:20260319T020507Z
LAST-MODIFIED:20260319T020507Z
UID:281-1782604800-1783036800@aucarolinas.org
SUMMARY:Summer Camp - University of Illinois Premier Camp
DESCRIPTION:
URL:http://aucarolinas.org/event/summer-camp-university-of-illinois-premier-camp/
END:VEVENT
BEGIN:VEVENT
DTSTART;TZID=America/New_York:20260617T000000
DTEND;TZID=America/New_York:20260622T000000
DTSTAMP:20260422T181929
CREATED:20260319T020451Z
LAST-MODIFIED:20260319T020453Z
UID:270-1781654400-1782086400@aucarolinas.org
SUMMARY:Summer Camp - University of Wisconsin -Whitewater
DESCRIPTION:
URL:http://aucarolinas.org/event/summer-camp-university-of-wisconsin-whitewater/
END:VEVENT
BEGIN:VEVENT
DTSTART;TZID=America/New_York:20260615T000000
DTEND;TZID=America/New_York:20260618T000000
DTSTAMP:20260422T181929
CREATED:20260319T020557Z
LAST-MODIFIED:20260319T020557Z
UID:287-1781481600-1781740800@aucarolinas.org
SUMMARY:Summer Camp (Day) - University of Alabama
DESCRIPTION:
URL:http://aucarolinas.org/event/summer-camp-day-university-of-alabama/
END:VEVENT
BEGIN:VEVENT
DTSTART;TZID=America/New_York:20260611T000000
DTEND;TZID=America/New_York:20260615T000000
DTSTAMP:20260422T181929
CREATED:20260319T020557Z
LAST-MODIFIED:20260319T020557Z
UID:286-1781136000-1781481600@aucarolinas.org
SUMMARY:Summer Camp - Edinboro University
DESCRIPTION:
URL:http://aucarolinas.org/event/summer-camp-edinboro-university-2/
END:VEVENT
BEGIN:VEVENT
DTSTART;VALUE=DATE:20260610
DTEND;VALUE=DATE:20260615
DTSTAMP:20260422T181929
CREATED:20260319T020506Z
LAST-MODIFIED:20260319T023915Z
UID:279-1781049600-1781481599@aucarolinas.org
SUMMARY:Summer Camp (Overnight) - University of Alabama
DESCRIPTION:
URL:http://aucarolinas.org/event/summer-camp-overnight-university-of-alabama/
END:VEVENT
BEGIN:VEVENT
DTSTART;VALUE=DATE:20260410
DTEND;VALUE=DATE:20260413
DTSTAMP:20260422T181929
CREATED:20260319T020506Z
LAST-MODIFIED:20260319T025700Z
UID:280-1775779200-1776038399@aucarolinas.org
SUMMARY:NWBA Women's and Military National Championships
DESCRIPTION:
URL:http://aucarolinas.org/event/nwba-womens-and-military-national-championships/
LOCATION:US Olympic & Paralympic Training Center\, 1 Olympic Plaza\, Colorado Springs\, CO\, 80909\, United States
END:VEVENT
BEGIN:VEVENT
DTSTART;VALUE=DATE:20260331
DTEND;VALUE=DATE:20260405
DTSTAMP:20260422T181929
CREATED:20260319T020444Z
LAST-MODIFIED:20260319T025827Z
UID:264-1774915200-1775347199@aucarolinas.org
SUMMARY:NWBA Men's and Women's Intercollegiate National Championships
DESCRIPTION:
URL:http://aucarolinas.org/event/nwba-mens-and-womens-intercollegiate-national-championships/
LOCATION:University of Arizona Recreation Center\, 1400 E 6th Street\, Tucson\, AZ\, 85721\, United States
END:VEVENT
BEGIN:VEVENT
DTSTART;VALUE=DATE:20260327
DTEND;VALUE=DATE:20260330
DTSTAMP:20260422T181929
CREATED:20260319T020451Z
LAST-MODIFIED:20260319T025406Z
UID:269-1774569600-1774828799@aucarolinas.org
SUMMARY:NWBA Adult National Championships
DESCRIPTION:
URL:http://aucarolinas.org/event/nwba-adult-national-championships/
LOCATION:West Monroe Sports and Events Facility\, 875 Constitution Drive\, West Monroe\, Lousiana\, 71292
END:VEVENT
BEGIN:VEVENT
DTSTART;VALUE=DATE:20260320
DTEND;VALUE=DATE:20260323
DTSTAMP:20260422T181929
CREATED:20260319T020505Z
LAST-MODIFIED:20260319T025428Z
UID:278-1773964800-1774223999@aucarolinas.org
SUMMARY:NWBA Junior National Championships
DESCRIPTION:
URL:http://aucarolinas.org/event/nwba-junior-national-championships-2/
LOCATION:West Monroe Sports and Events Facility\, 875 Constitution Drive\, West Monroe\, Lousiana\, 71292
END:VEVENT
BEGIN:VEVENT
DTSTART;TZID=America/New_York:20260227T000000
DTEND;TZID=America/New_York:20260228T000000
DTSTAMP:20260422T181929
CREATED:20260319T020444Z
LAST-MODIFIED:20260319T020444Z
UID:263-1772150400-1772236800@aucarolinas.org
SUMMARY:CLINIC - Paul Schulte 4:00pm
DESCRIPTION:Providence Presbyterian Church\, 10151 Providence Church Ln\, Charlotte\, NC 28277\, USA
URL:http://aucarolinas.org/event/clinic-paul-schulte-400pm/
END:VEVENT
BEGIN:VEVENT
DTSTART;TZID=America/New_York:20260221T000000
DTEND;TZID=America/New_York:20260223T000000
DTSTAMP:20260422T181929
CREATED:20260319T020556Z
LAST-MODIFIED:20260319T020556Z
UID:284-1771632000-1771804800@aucarolinas.org
SUMMARY:SEC Championships
DESCRIPTION:Lakeshore Foundation\, 4000 Ridgeway Dr\, Birmingham\, AL 35209\, USA
URL:http://aucarolinas.org/event/sec-championships/
END:VEVENT
BEGIN:VEVENT
DTSTART;TZID=America/New_York:20260131T000000
DTEND;TZID=America/New_York:20260202T000000
DTSTAMP:20260422T181929
CREATED:20260319T020446Z
LAST-MODIFIED:20260319T020446Z
UID:267-1769817600-1769990400@aucarolinas.org
SUMMARY:Brooks Rehabilitation Tournament
DESCRIPTION:University of North Florida (UNF)\, 1 UNF Dr.\, Jacksonville\, FL 32224\, USA
URL:http://aucarolinas.org/event/brooks-rehabilitation-tournament/
END:VEVENT
BEGIN:VEVENT
DTSTART;TZID=America/New_York:20260123T000000
DTEND;TZID=America/New_York:20260126T000000
DTSTAMP:20260422T181929
CREATED:20260319T020452Z
LAST-MODIFIED:20260319T020452Z
UID:273-1769126400-1769385600@aucarolinas.org
SUMMARY:DII - University of Texas-Arlington Tournament
DESCRIPTION:The University of Texas at Arlington\, 701 S Nedderman Dr\, Arlington\, TX 76019\, USA
URL:http://aucarolinas.org/event/dii-university-of-texas-arlington-tournament-2/
END:VEVENT
BEGIN:VEVENT
DTSTART;TZID=America/New_York:20260123T000000
DTEND;TZID=America/New_York:20260126T000000
DTSTAMP:20260422T181929
CREATED:20260319T020450Z
LAST-MODIFIED:20260319T020450Z
UID:268-1769126400-1769385600@aucarolinas.org
SUMMARY:DII - University of Texas-Arlington Tournament
DESCRIPTION:The University of Texas at Arlington\, 701 S Nedderman Dr\, Arlington\, TX 76019\, USA
URL:http://aucarolinas.org/event/dii-university-of-texas-arlington-tournament/
END:VEVENT
BEGIN:VEVENT
DTSTART;TZID=America/New_York:20260116T000000
DTEND;TZID=America/New_York:20260119T000000
DTSTAMP:20260422T181929
CREATED:20260319T020507Z
LAST-MODIFIED:20260319T020507Z
UID:282-1768521600-1768780800@aucarolinas.org
SUMMARY:Pioneer Classic
DESCRIPTION:Lakeshore Foundation\, 4000 Ridgeway Dr\, Birmingham\, AL 35209\, USA
URL:http://aucarolinas.org/event/pioneer-classic/
END:VEVENT
BEGIN:VEVENT
DTSTART;TZID=America/New_York:20260102T000000
DTEND;TZID=America/New_York:20260105T000000
DTSTAMP:20260422T181929
CREATED:20260319T020445Z
LAST-MODIFIED:20260319T020445Z
UID:266-1767312000-1767571200@aucarolinas.org
SUMMARY:Big Peach Slam Jam
DESCRIPTION:LakePoint Sports\, 261 Stars Way\, Cartersville\, GA 30121\, USA
URL:http://aucarolinas.org/event/big-peach-slam-jam/
END:VEVENT
END:VCALENDAR